BEGIN:VCALENDAR
VERSION:2.0
PRODID:-//Bilker Heimatfreunde e.V. - ECPv6.15.20//NONSGML v1.0//EN
CALSCALE:GREGORIAN
METHOD:PUBLISH
X-ORIGINAL-URL:https://bilker-heimatfreunde.de
X-WR-CALDESC:Veranstaltungen für Bilker Heimatfreunde e.V.
REFRESH-INTERVAL;VALUE=DURATION:PT1H
X-Robots-Tag:noindex
X-PUBLISHED-TTL:PT1H
BEGIN:VTIMEZONE
TZID:UTC
BEGIN:STANDARD
TZOFFSETFROM:+0000
TZOFFSETTO:+0000
TZNAME:UTC
DTSTART:20220101T000000
END:STANDARD
END:VTIMEZONE
BEGIN:VEVENT
DTSTART;TZID=UTC:20231105T110000
DTEND;TZID=UTC:20231107T180000
DTSTAMP:20260423T003754
CREATED:20231018T122250Z
LAST-MODIFIED:20231019T105821Z
UID:1567-1699182000-1699380000@bilker-heimatfreunde.de
SUMMARY:Martinsfest in Bilk
DESCRIPTION:Martinslampen Ausstellung\n\n\n\nSamstag 04.11 2023 von 11:00 bis 18:00 Uhr \n\n\n\nSonntag 05.11.2023 von 12:00 bis 18:00 Uhr \n\n\n\nIm Forum der Bilker Kirche \, Neusser Str. 88 \n\n\n\n \n\n\n\n \n\n\n\n \n\n\n\nTraditioneller Bilker Martinszug\n\n\n\nFreitag 10. November 2023Aufstellung 17.00 Uhr auf dem Siegplatz\, Beginn 17.30 Uhr
URL:https://bilker-heimatfreunde.de/event/grosse-bilker-martinslampenausstellung/
END:VEVENT
END:VCALENDAR